BEGIN:VCALENDAR
PRODID:-//www.woodcraft.cz
VERSION:2.0
METHOD:PUBLISH
BEGIN:VEVENT
DTEND;VALUE=DATE:1357945200
DTSTART;VALUE=DATE:20130112
LOCATION:
TRANSP:OPAQUE
SEQUENCE:0
UID:339@woodcraft.cz
DTSTAMP:20260424T085132Z
SUMMARY:Ples v Tuchlovicích
DESCRIPTION:Ples v Tuchlovicích\n\n
PRIORITY:1
CLASS:PUBLIC
X-ALT-DESC;FMTTYPE=text/html:<html><body>Ples v Tuchlovicích\n\n<hr>Liga lesní moudrosti<br><a href="https://www.woodcraft.cz">www.woodcraft.cz</a></body></html>
BEGIN:VALARM
TRIGGER:-PT10080M
ACTION:DISPLAY
DESCRIPTION:Reminder
END:VALARM
END:VEVENT
END:VCALENDAR
