BEGIN:VCALENDAR
PRODID:-//www.woodcraft.cz
VERSION:2.0
METHOD:PUBLISH
BEGIN:VEVENT
DTEND;VALUE=DATE:20070509
DTSTART;VALUE=DATE:20070505
LOCATION:
TRANSP:OPAQUE
SEQUENCE:0
UID:184@woodcraft.cz
DTSTAMP:20260421T101353Z
SUMMARY:Nejkrásnější sbírka (3 moravská CHKO)\nKontakt: Jiří Lehký
DESCRIPTION:Nejkrásnější sbírka (3 moravská CHKO)\n\nKontakt: Jiří Lehký - Hočhóka montyho@email.cz\n\n
PRIORITY:1
CLASS:PUBLIC
X-ALT-DESC;FMTTYPE=text/html:<html><body>Nejkrásnější sbírka (3 moravská CHKO)\n\nKontakt: Jiří Lehký - Hočhóka montyho@email.cz\n\n<hr>Liga lesní moudrosti<br><a href="https://www.woodcraft.cz">www.woodcraft.cz</a></body></html>
BEGIN:VALARM
TRIGGER:-PT10080M
ACTION:DISPLAY
DESCRIPTION:Reminder
END:VALARM
END:VEVENT
END:VCALENDAR
