BEGIN:VCALENDAR
PRODID:-//www.woodcraft.cz
VERSION:2.0
METHOD:PUBLISH
BEGIN:VEVENT
DTEND;VALUE=DATE:20070305
DTSTART;VALUE=DATE:20070302
LOCATION:
TRANSP:OPAQUE
SEQUENCE:0
UID:183@woodcraft.cz
DTSTAMP:20260421T095816Z
SUMMARY:akce stopování šelem v Beskydech, \nbyla
DESCRIPTION:akce stopování šelem v Beskydech, \nbyla z důvodů nepřízeně počasí  i jeho předpovědi na další dny, zrušena\n\n\nStopování šelem - akce může ještě zaznamenat změny \n\nKontakt: Jiří Lehký - Hočhóka\n\n
PRIORITY:1
CLASS:PUBLIC
X-ALT-DESC;FMTTYPE=text/html:<html><body>akce stopování šelem v Beskydech, \nbyla z důvodů nepřízeně počasí  i jeho předpovědi na další dny, zrušena\n\n\nStopování šelem - akce může ještě zaznamenat změny \n\nKontakt: Jiří Lehký - Hočhóka\n\n<hr>Liga lesní moudrosti<br><a href="https://www.woodcraft.cz">www.woodcraft.cz</a></body></html>
BEGIN:VALARM
TRIGGER:-PT10080M
ACTION:DISPLAY
DESCRIPTION:Reminder
END:VALARM
END:VEVENT
END:VCALENDAR
