BEGIN:VCALENDAR
PRODID:-//www.woodcraft.cz
VERSION:2.0
METHOD:PUBLISH
BEGIN:VEVENT
DTEND;VALUE=DATE:20070122
DTSTART;VALUE=DATE:20070119
LOCATION:
TRANSP:OPAQUE
SEQUENCE:0
UID:182@woodcraft.cz
DTSTAMP:20260421T100315Z
SUMMARY:Kurz pletení košíků na Bobřím hradě\nkontakt: Kamila
DESCRIPTION:Kurz pletení košíků na Bobřím hradě\n\nkontakt: Kamila Lunerová (Jezerní lidé)\n\n
PRIORITY:1
CLASS:PUBLIC
X-ALT-DESC;FMTTYPE=text/html:<html><body>Kurz pletení košíků na Bobřím hradě\n\nkontakt: Kamila Lunerová (Jezerní lidé)\n\n<hr>Liga lesní moudrosti<br><a href="https://www.woodcraft.cz">www.woodcraft.cz</a></body></html>
BEGIN:VALARM
TRIGGER:-PT10080M
ACTION:DISPLAY
DESCRIPTION:Reminder
END:VALARM
END:VEVENT
END:VCALENDAR
