BEGIN:VCALENDAR
PRODID:-//www.woodcraft.cz
VERSION:2.0
METHOD:PUBLISH
BEGIN:VEVENT
DTEND;VALUE=DATE:20071001
DTSTART;VALUE=DATE:20070928
LOCATION:
TRANSP:OPAQUE
SEQUENCE:0
UID:180@woodcraft.cz
DTSTAMP:20260421T095801Z
SUMMARY:Táboření ML současně se Stopou Černého Vlka
DESCRIPTION:Táboření ML současně se Stopou Černého Vlka a Kiwendothou\n\nkontakt: Ivana Dalíková - Viktorka\n\n
PRIORITY:1
CLASS:PUBLIC
X-ALT-DESC;FMTTYPE=text/html:<html><body>Táboření ML současně se Stopou Černého Vlka a Kiwendothou\n\nkontakt: Ivana Dalíková - Viktorka\n\n<hr>Liga lesní moudrosti<br><a href="https://www.woodcraft.cz">www.woodcraft.cz</a></body></html>
BEGIN:VALARM
TRIGGER:-PT10080M
ACTION:DISPLAY
DESCRIPTION:Reminder
END:VALARM
END:VEVENT
END:VCALENDAR
